BEGIN:VCALENDAR
PRODID:-//eluceo/ical//2.0/EN
VERSION:2.0
CALSCALE:GREGORIAN
BEGIN:VEVENT
UID:90f9fc14510a426ffa40684750bb6b47
DTSTAMP:20260423T075722Z
SUMMARY:BT  Rabbi's Study Course
DESCRIPTION:Jewish Federation of Greater Naples\nCommunity Calendar\nhttps:
 //jewishnaples.org/calendar/calendar16433\n\nBT  Rabbi's Study Course
DTSTART;TZID=America/New_York:20151027T160000
DTEND;TZID=America/New_York:20151027T160000
END:VEVENT
END:VCALENDAR
