BEGIN:VCALENDAR
PRODID:-//eluceo/ical//2.0/EN
VERSION:2.0
CALSCALE:GREGORIAN
BEGIN:VEVENT
UID:727da6cf7de7cc2acd553a1046303f5f
DTSTAMP:20260424T064802Z
SUMMARY:NJC Sisterhood Art Tour
DESCRIPTION:Jewish Federation of Greater Naples\nCommunity Calendar\nhttps:
 //jewishnaples.org/calendar/calendar16430\n\nNJC Sisterhood Art Tour
DTSTART;TZID=America/New_York:20151027T103000
DTEND;TZID=America/New_York:20151027T103000
END:VEVENT
END:VCALENDAR
