BEGIN:VCALENDAR
PRODID:-//eluceo/ical//2.0/EN
VERSION:2.0
CALSCALE:GREGORIAN
BEGIN:VEVENT
UID:474c991bdc3d56e11ba57ca32bcf56e3
DTSTAMP:20260423T145556Z
SUMMARY:TS  Preschool Back-to-School Night
DESCRIPTION:Jewish Federation of Greater Naples\nCommunity Calendar\nhttps:
 //jewishnaples.org/calendar/calendar16428\n\nTS  Preschool Back-to-School 
 Night
DTSTART;TZID=America/New_York:20151026T190000
DTEND;TZID=America/New_York:20151026T193000
END:VEVENT
END:VCALENDAR
