BEGIN:VCALENDAR
PRODID:-//eluceo/ical//2.0/EN
VERSION:2.0
CALSCALE:GREGORIAN
BEGIN:VEVENT
UID:8186dcd795bb88def72c5397a4aaa873
DTSTAMP:20260422T190454Z
SUMMARY:JCMI  Bingo
DESCRIPTION:Jewish Federation of Greater Naples\nCommunity Calendar\nhttps:
 //jewishnaples.org/calendar/calendar16427\n\nJCMI  Bingo
DTSTART;TZID=America/New_York:20151026T173000
DTEND;TZID=America/New_York:20151026T173000
END:VEVENT
END:VCALENDAR
