BEGIN:VCALENDAR
PRODID:-//eluceo/ical//2.0/EN
VERSION:2.0
CALSCALE:GREGORIAN
BEGIN:VEVENT
UID:d7d6180d0da9cb2102676f2816640f0b
DTSTAMP:20260423T091336Z
SUMMARY:TS Sunday School
DESCRIPTION:Jewish Federation of Greater Naples\nCommunity Calendar\nhttps:
 //jewishnaples.org/calendar/calendar16424\n\nTS Sunday School
DTSTART;TZID=America/New_York:20151025T093000
DTEND;TZID=America/New_York:20151025T093000
END:VEVENT
END:VCALENDAR
