BEGIN:VCALENDAR
PRODID:-//eluceo/ical//2.0/EN
VERSION:2.0
CALSCALE:GREGORIAN
BEGIN:VEVENT
UID:a295244c459ca04b7fc8d759944ad33c
DTSTAMP:20260423T181216Z
SUMMARY:TS Services
DESCRIPTION:Jewish Federation of Greater Naples\nCommunity Calendar\nhttps:
 //jewishnaples.org/calendar/calendar16421\n\nTS Services
DTSTART;TZID=America/New_York:20151024T100000
DTEND;TZID=America/New_York:20151024T100000
END:VEVENT
END:VCALENDAR
