BEGIN:VCALENDAR
PRODID:-//eluceo/ical//2.0/EN
VERSION:2.0
CALSCALE:GREGORIAN
BEGIN:VEVENT
UID:362d66dcb9a4187209efeb981ef3dd69
DTSTAMP:20260424T051823Z
SUMMARY:JCMI  Services
DESCRIPTION:Jewish Federation of Greater Naples\nCommunity Calendar\nhttps:
 //jewishnaples.org/calendar/calendar16418\n\nJCMI  Services
DTSTART;TZID=America/New_York:20151023T200000
DTEND;TZID=America/New_York:20151023T200000
END:VEVENT
END:VCALENDAR
