BEGIN:VCALENDAR
PRODID:-//eluceo/ical//2.0/EN
VERSION:2.0
CALSCALE:GREGORIAN
BEGIN:VEVENT
UID:1a1af065c0fd42262f59c9caacc60498
DTSTAMP:20260424T111541Z
SUMMARY:BBYO  Youth Activity
DESCRIPTION:Jewish Federation of Greater Naples\nCommunity Calendar\nhttps:
 //jewishnaples.org/calendar/calendar16412\n\nBBYO  Youth Activity
DTSTART;TZID=America/New_York:20151022T180000
DTEND;TZID=America/New_York:20151022T180000
END:VEVENT
END:VCALENDAR
