BEGIN:VCALENDAR
PRODID:-//eluceo/ical//2.0/EN
VERSION:2.0
CALSCALE:GREGORIAN
BEGIN:VEVENT
UID:0464e3604c8e880fa83215c1ef15baef
DTSTAMP:20260419T201146Z
SUMMARY:ZOA-CHA Film Presentation
DESCRIPTION:Jewish Federation of Greater Naples\nCommunity Calendar\nhttps:
 //jewishnaples.org/calendar/calendar16411\n\nZOA-CHA Film Presentation
DTSTART;TZID=America/New_York:20151021T193000
DTEND;TZID=America/New_York:20151021T193000
END:VEVENT
END:VCALENDAR
