BEGIN:VCALENDAR
PRODID:-//eluceo/ical//2.0/EN
VERSION:2.0
CALSCALE:GREGORIAN
BEGIN:VEVENT
UID:709717c33d31bbb42b4e65e2dcef5e9b
DTSTAMP:20260424T023130Z
SUMMARY:BT  Rabbi's Study Course
DESCRIPTION:Jewish Federation of Greater Naples\nCommunity Calendar\nhttps:
 //jewishnaples.org/calendar/calendar16410\n\nBT  Rabbi's Study Course
DTSTART;TZID=America/New_York:20151021T193000
DTEND;TZID=America/New_York:20151021T193000
END:VEVENT
END:VCALENDAR
