BEGIN:VCALENDAR
PRODID:-//eluceo/ical//2.0/EN
VERSION:2.0
CALSCALE:GREGORIAN
BEGIN:VEVENT
UID:de220e4b5906bdb4203e3b79ef8cf864
DTSTAMP:20260423T095033Z
SUMMARY:BT  Hebrew School
DESCRIPTION:Jewish Federation of Greater Naples\nCommunity Calendar\nhttps:
 //jewishnaples.org/calendar/calendar16406\n\nBT  Hebrew School
DTSTART;TZID=America/New_York:20151021T163000
DTEND;TZID=America/New_York:20151021T163000
END:VEVENT
END:VCALENDAR
