BEGIN:VCALENDAR
PRODID:-//eluceo/ical//2.0/EN
VERSION:2.0
CALSCALE:GREGORIAN
BEGIN:VEVENT
UID:eefacba8316f13805d91aa42f71d998c
DTSTAMP:20260422T171415Z
SUMMARY:BT  Rabbi's Study Course
DESCRIPTION:Jewish Federation of Greater Naples\nCommunity Calendar\nhttps:
 //jewishnaples.org/calendar/calendar16402\n\nBT  Rabbi's Study Course
DTSTART;TZID=America/New_York:20151020T160000
DTEND;TZID=America/New_York:20151020T160000
END:VEVENT
END:VCALENDAR
