BEGIN:VCALENDAR
PRODID:-//eluceo/ical//2.0/EN
VERSION:2.0
CALSCALE:GREGORIAN
BEGIN:VEVENT
UID:2978d75fbe3afb669088dfdb531c2ff2
DTSTAMP:20260422T215019Z
SUMMARY:TS  Preschool Closed
DESCRIPTION:Jewish Federation of Greater Naples\nCommunity Calendar\nhttps:
 //jewishnaples.org/calendar/calendar16400\n\nTS  Preschool Closed
DTSTART;TZID=America/New_York:20151020T083000
DTEND;TZID=America/New_York:20151020T083000
END:VEVENT
END:VCALENDAR
