BEGIN:VCALENDAR
PRODID:-//eluceo/ical//2.0/EN
VERSION:2.0
CALSCALE:GREGORIAN
BEGIN:VEVENT
UID:21c254b4771c3782e0da03418315566e
DTSTAMP:20260423T042156Z
SUMMARY:TS  Preschool Closed
DESCRIPTION:Jewish Federation of Greater Naples\nCommunity Calendar\nhttps:
 //jewishnaples.org/calendar/calendar16396\n\nTS  Preschool Closed
DTSTART;TZID=America/New_York:20151019T083000
DTEND;TZID=America/New_York:20151019T083000
END:VEVENT
END:VCALENDAR
