BEGIN:VCALENDAR
PRODID:-//eluceo/ical//2.0/EN
VERSION:2.0
CALSCALE:GREGORIAN
BEGIN:VEVENT
UID:849aa6b83d4e7c85718d8fdbe55a2b81
DTSTAMP:20260421T165839Z
SUMMARY:BT  Rosh Hodesh Women's Group
DESCRIPTION:Jewish Federation of Greater Naples\nCommunity Calendar\nhttps:
 //jewishnaples.org/calendar/calendar16392\n\nBT  Rosh Hodesh Women's Group
DTSTART;TZID=America/New_York:20151018T100000
DTEND;TZID=America/New_York:20151018T100000
END:VEVENT
END:VCALENDAR
