BEGIN:VCALENDAR
PRODID:-//eluceo/ical//2.0/EN
VERSION:2.0
CALSCALE:GREGORIAN
BEGIN:VEVENT
UID:1740d3320c8d4d1210c57a33a054dbf8
DTSTAMP:20260424T104242Z
SUMMARY:BT Services
DESCRIPTION:Jewish Federation of Greater Naples\nCommunity Calendar\nhttps:
 //jewishnaples.org/calendar/calendar16387\n\nBT Services
DTSTART;TZID=America/New_York:20151017T093000
DTEND;TZID=America/New_York:20151017T093000
END:VEVENT
END:VCALENDAR
