BEGIN:VCALENDAR
PRODID:-//eluceo/ical//2.0/EN
VERSION:2.0
CALSCALE:GREGORIAN
BEGIN:VEVENT
UID:ed2c328ddd3dcca2d523534d64f745f9
DTSTAMP:20260423T091652Z
SUMMARY:JCMI  Services
DESCRIPTION:Jewish Federation of Greater Naples\nCommunity Calendar\nhttps:
 //jewishnaples.org/calendar/calendar16386\n\nJCMI  Services
DTSTART;TZID=America/New_York:20151016T200000
DTEND;TZID=America/New_York:20151016T200000
END:VEVENT
END:VCALENDAR
