BEGIN:VCALENDAR
PRODID:-//eluceo/ical//2.0/EN
VERSION:2.0
CALSCALE:GREGORIAN
BEGIN:VEVENT
UID:7b629c81f6435968fb684cb0f91ba591
DTSTAMP:20260424T014813Z
SUMMARY:BT Service
DESCRIPTION:Jewish Federation of Greater Naples\nCommunity Calendar\nhttps:
 //jewishnaples.org/calendar/calendar16383\n\nBT Service
DTSTART;TZID=America/New_York:20151016T181500
DTEND;TZID=America/New_York:20151016T181500
END:VEVENT
END:VCALENDAR
