BEGIN:VCALENDAR
PRODID:-//eluceo/ical//2.0/EN
VERSION:2.0
CALSCALE:GREGORIAN
BEGIN:VEVENT
UID:5eacfd26227cc18967c62dd3d5136a11
DTSTAMP:20260421T155625Z
SUMMARY:WCA Board Meeting
DESCRIPTION:Jewish Federation of Greater Naples\nCommunity Calendar\nhttps:
 //jewishnaples.org/calendar/calendar16382\n\nWCA Board Meeting
DTSTART;TZID=America/New_York:20151016T090000
DTEND;TZID=America/New_York:20151016T090000
END:VEVENT
END:VCALENDAR
