BEGIN:VCALENDAR
PRODID:-//eluceo/ical//2.0/EN
VERSION:2.0
CALSCALE:GREGORIAN
BEGIN:VEVENT
UID:1f2173944732b88fb7b78fc76e21b99c
DTSTAMP:20260423T202018Z
SUMMARY:BT  Board Meeting
DESCRIPTION:Jewish Federation of Greater Naples\nCommunity Calendar\nhttps:
 //jewishnaples.org/calendar/calendar16380\n\nBT  Board Meeting
DTSTART;TZID=America/New_York:20151015T160000
DTEND;TZID=America/New_York:20151015T160000
END:VEVENT
END:VCALENDAR
