BEGIN:VCALENDAR
PRODID:-//eluceo/ical//2.0/EN
VERSION:2.0
CALSCALE:GREGORIAN
BEGIN:VEVENT
UID:df13f30b2b4a479a51142ec56bae8558
DTSTAMP:20260422T054008Z
SUMMARY:TS  Adult B'nai Mitzvah class
DESCRIPTION:Jewish Federation of Greater Naples\nCommunity Calendar\nhttps:
 //jewishnaples.org/calendar/calendar16377\n\nTS  Adult B'nai Mitzvah class
DTSTART;TZID=America/New_York:20151014T183000
DTEND;TZID=America/New_York:20151014T183000
END:VEVENT
END:VCALENDAR
