BEGIN:VCALENDAR
PRODID:-//eluceo/ical//2.0/EN
VERSION:2.0
CALSCALE:GREGORIAN
BEGIN:VEVENT
UID:a6af6ef90913cf50a0b9d7ad8cc3a3bf
DTSTAMP:20260424T102146Z
SUMMARY:TS  Hebrew School
DESCRIPTION:Jewish Federation of Greater Naples\nCommunity Calendar\nhttps:
 //jewishnaples.org/calendar/calendar16376\n\nTS  Hebrew School
DTSTART;TZID=America/New_York:20151014T163000
DTEND;TZID=America/New_York:20151014T163000
END:VEVENT
END:VCALENDAR
