BEGIN:VCALENDAR
PRODID:-//eluceo/ical//2.0/EN
VERSION:2.0
CALSCALE:GREGORIAN
BEGIN:VEVENT
UID:af1cc6f72a0e2ca297f3efa99d323496
DTSTAMP:20260420T163521Z
SUMMARY:CHA  Hebrew School
DESCRIPTION:Jewish Federation of Greater Naples\nCommunity Calendar\nhttps:
 //jewishnaples.org/calendar/calendar16375\n\nCHA  Hebrew School
DTSTART;TZID=America/New_York:20151014T163000
DTEND;TZID=America/New_York:20151014T163000
END:VEVENT
END:VCALENDAR
