BEGIN:VCALENDAR
PRODID:-//eluceo/ical//2.0/EN
VERSION:2.0
CALSCALE:GREGORIAN
BEGIN:VEVENT
UID:3a2ffb2bf342c9e8bf73ee5653f6a188
DTSTAMP:20260420T162118Z
SUMMARY:BT  Hebrew School
DESCRIPTION:Jewish Federation of Greater Naples\nCommunity Calendar\nhttps:
 //jewishnaples.org/calendar/calendar16374\n\nBT  Hebrew School
DTSTART;TZID=America/New_York:20151014T163000
DTEND;TZID=America/New_York:20151014T163000
END:VEVENT
END:VCALENDAR
