BEGIN:VCALENDAR
PRODID:-//eluceo/ical//2.0/EN
VERSION:2.0
CALSCALE:GREGORIAN
BEGIN:VEVENT
UID:f77e7b2fa96cfa2c9b42cc594ef1fa8e
DTSTAMP:20260424T000721Z
SUMMARY:IAC  Committee Meeting
DESCRIPTION:Jewish Federation of Greater Naples\nCommunity Calendar\nhttps:
 //jewishnaples.org/calendar/calendar16373\n\nIAC  Committee Meeting
DTSTART;TZID=America/New_York:20151014T133000
DTEND;TZID=America/New_York:20151014T133000
END:VEVENT
END:VCALENDAR
