BEGIN:VCALENDAR
PRODID:-//eluceo/ical//2.0/EN
VERSION:2.0
CALSCALE:GREGORIAN
BEGIN:VEVENT
UID:35ef4fd8976d641033135ba09c1bc7d8
DTSTAMP:20260424T033242Z
SUMMARY:HDH  Board Meeting - TS
DESCRIPTION:Jewish Federation of Greater Naples\nCommunity Calendar\nhttps:
 //jewishnaples.org/calendar/calendar16366\n\nHDH  Board Meeting - TS
DTSTART;TZID=America/New_York:20151013T130000
DTEND;TZID=America/New_York:20151013T130000
END:VEVENT
END:VCALENDAR
