BEGIN:VCALENDAR
PRODID:-//eluceo/ical//2.0/EN
VERSION:2.0
CALSCALE:GREGORIAN
BEGIN:VEVENT
UID:384ef33c82bb17e0c9d59b90185039bd
DTSTAMP:20260422T200922Z
SUMMARY:TS  Sisterhood Luncheon
DESCRIPTION:Jewish Federation of Greater Naples\nCommunity Calendar\nhttps:
 //jewishnaples.org/calendar/calendar16364\n\nTS  Sisterhood Luncheon
DTSTART;TZID=America/New_York:20151013T113000
DTEND;TZID=America/New_York:20151013T113000
END:VEVENT
END:VCALENDAR
