BEGIN:VCALENDAR
PRODID:-//eluceo/ical//2.0/EN
VERSION:2.0
CALSCALE:GREGORIAN
BEGIN:VEVENT
UID:757a0bb5af30fae817b123acafac092d
DTSTAMP:20260420T171047Z
SUMMARY:Rosh Chodesh
DESCRIPTION:Jewish Federation of Greater Naples\nCommunity Calendar\nhttps:
 //jewishnaples.org/calendar/calendar16362\n\nRosh Chodesh
DTSTART;TZID=America/New_York:20151013T000000
DTEND;TZID=America/New_York:20151014T000000
END:VEVENT
END:VCALENDAR
