BEGIN:VCALENDAR
PRODID:-//eluceo/ical//2.0/EN
VERSION:2.0
CALSCALE:GREGORIAN
BEGIN:VEVENT
UID:c0bef6e3a776a5fc4d2ff565d86dc7c5
DTSTAMP:20260423T110327Z
SUMMARY:Columbus Day
DESCRIPTION:Jewish Federation of Greater Naples\nCommunity Calendar\nhttps:
 //jewishnaples.org/calendar/calendar16360\n\nColumbus Day
DTSTART;TZID=America/New_York:20151012T000000
DTEND;TZID=America/New_York:20151013T000000
END:VEVENT
END:VCALENDAR
