BEGIN:VCALENDAR
PRODID:-//eluceo/ical//2.0/EN
VERSION:2.0
CALSCALE:GREGORIAN
BEGIN:VEVENT
UID:56bc7ba75c225e2c80d9da2841b0c82d
DTSTAMP:20260424T064425Z
SUMMARY:TS Sunday School
DESCRIPTION:Jewish Federation of Greater Naples\nCommunity Calendar\nhttps:
 //jewishnaples.org/calendar/calendar16358\n\nTS Sunday School
DTSTART;TZID=America/New_York:20151011T093000
DTEND;TZID=America/New_York:20151011T093000
END:VEVENT
END:VCALENDAR
