BEGIN:VCALENDAR
PRODID:-//eluceo/ical//2.0/EN
VERSION:2.0
CALSCALE:GREGORIAN
BEGIN:VEVENT
UID:5a36a039e64d144331e6a3cdcce77494
DTSTAMP:20260422T083936Z
SUMMARY:CHA  Services
DESCRIPTION:Jewish Federation of Greater Naples\nCommunity Calendar\nhttps:
 //jewishnaples.org/calendar/calendar16355\n\nCHA  Services
DTSTART;TZID=America/New_York:20151010T100000
DTEND;TZID=America/New_York:20151010T100000
END:VEVENT
END:VCALENDAR
