BEGIN:VCALENDAR
PRODID:-//eluceo/ical//2.0/EN
VERSION:2.0
CALSCALE:GREGORIAN
BEGIN:VEVENT
UID:7853de37f7bccac8cbbf8f90bda64b5f
DTSTAMP:20260420T030036Z
SUMMARY:BT Services
DESCRIPTION:Jewish Federation of Greater Naples\nCommunity Calendar\nhttps:
 //jewishnaples.org/calendar/calendar16354\n\nBT Services
DTSTART;TZID=America/New_York:20151010T093000
DTEND;TZID=America/New_York:20151010T093000
END:VEVENT
END:VCALENDAR
