BEGIN:VCALENDAR
PRODID:-//eluceo/ical//2.0/EN
VERSION:2.0
CALSCALE:GREGORIAN
BEGIN:VEVENT
UID:f5b0b80d955625c6af74d74de9751427
DTSTAMP:20260424T052438Z
SUMMARY:JCMI  Services
DESCRIPTION:Jewish Federation of Greater Naples\nCommunity Calendar\nhttps:
 //jewishnaples.org/calendar/calendar16353\n\nJCMI  Services
DTSTART;TZID=America/New_York:20151009T200000
DTEND;TZID=America/New_York:20151009T200000
END:VEVENT
END:VCALENDAR
