BEGIN:VCALENDAR
PRODID:-//eluceo/ical//2.0/EN
VERSION:2.0
CALSCALE:GREGORIAN
BEGIN:VEVENT
UID:2e1ecd540c621900e3f0353e48aec75b
DTSTAMP:20260424T093205Z
SUMMARY:NJC Services
DESCRIPTION:Jewish Federation of Greater Naples\nCommunity Calendar\nhttps:
 //jewishnaples.org/calendar/calendar16351\n\nNJC Services
DTSTART;TZID=America/New_York:20151009T193000
DTEND;TZID=America/New_York:20151009T200000
END:VEVENT
END:VCALENDAR
