BEGIN:VCALENDAR
PRODID:-//eluceo/ical//2.0/EN
VERSION:2.0
CALSCALE:GREGORIAN
BEGIN:VEVENT
UID:d75133b0f7d43eae0b84b95736d9d654
DTSTAMP:20260421T224105Z
SUMMARY:TS  Hebrew School
DESCRIPTION:Jewish Federation of Greater Naples\nCommunity Calendar\nhttps:
 //jewishnaples.org/calendar/calendar16345\n\nTS  Hebrew School
DTSTART;TZID=America/New_York:20151007T163000
DTEND;TZID=America/New_York:20151007T163000
END:VEVENT
END:VCALENDAR
