BEGIN:VCALENDAR
PRODID:-//eluceo/ical//2.0/EN
VERSION:2.0
CALSCALE:GREGORIAN
BEGIN:VEVENT
UID:0e3034933be6f5012c75fba373e905af
DTSTAMP:20260423T163015Z
SUMMARY:JCRC Meeting
DESCRIPTION:Jewish Federation of Greater Naples\nCommunity Calendar\nhttps:
 //jewishnaples.org/calendar/calendar16342\n\nJCRC Meeting
DTSTART;TZID=America/New_York:20151007T133000
DTEND;TZID=America/New_York:20151007T133000
END:VEVENT
END:VCALENDAR
