BEGIN:VCALENDAR
PRODID:-//eluceo/ical//2.0/EN
VERSION:2.0
CALSCALE:GREGORIAN
BEGIN:VEVENT
UID:2195c2588c1456a60d39c38de1ef851d
DTSTAMP:20260424T092931Z
SUMMARY:TS  Yizkor Service
DESCRIPTION:Jewish Federation of Greater Naples\nCommunity Calendar\nhttps:
 //jewishnaples.org/calendar/calendar16335\n\nTS  Yizkor Service
DTSTART;TZID=America/New_York:20151006T100000
DTEND;TZID=America/New_York:20151006T100000
END:VEVENT
END:VCALENDAR
