BEGIN:VCALENDAR
PRODID:-//eluceo/ical//2.0/EN
VERSION:2.0
CALSCALE:GREGORIAN
BEGIN:VEVENT
UID:59fd93f022226c6228cdc45f9ea4aabc
DTSTAMP:20260422T215242Z
SUMMARY:CHA  Services
DESCRIPTION:Jewish Federation of Greater Naples\nCommunity Calendar\nhttps:
 //jewishnaples.org/calendar/calendar16334\n\nCHA  Services
DTSTART;TZID=America/New_York:20151006T100000
DTEND;TZID=America/New_York:20151006T100000
END:VEVENT
END:VCALENDAR
