BEGIN:VCALENDAR
PRODID:-//eluceo/ical//2.0/EN
VERSION:2.0
CALSCALE:GREGORIAN
BEGIN:VEVENT
UID:98b08925bf34a86ddfa287299a0f11b0
DTSTAMP:20260423T083458Z
SUMMARY:JCMI  Bingo
DESCRIPTION:Jewish Federation of Greater Naples\nCommunity Calendar\nhttps:
 //jewishnaples.org/calendar/calendar16329\n\nJCMI  Bingo
DTSTART;TZID=America/New_York:20151005T173000
DTEND;TZID=America/New_York:20151005T173000
END:VEVENT
END:VCALENDAR
