BEGIN:VCALENDAR
PRODID:-//eluceo/ical//2.0/EN
VERSION:2.0
CALSCALE:GREGORIAN
BEGIN:VEVENT
UID:2d67c83470ad813936cbd7d660df88e7
DTSTAMP:20260423T222632Z
SUMMARY:TS - NCJW Monthly Meeting
DESCRIPTION:Jewish Federation of Greater Naples\nCommunity Calendar\nhttps:
 //jewishnaples.org/calendar/calendar16328\n\nTS - NCJW Monthly Meeting
DTSTART;TZID=America/New_York:20151005T100000
DTEND;TZID=America/New_York:20151005T100000
END:VEVENT
END:VCALENDAR
