BEGIN:VCALENDAR
PRODID:-//eluceo/ical//2.0/EN
VERSION:2.0
CALSCALE:GREGORIAN
BEGIN:VEVENT
UID:2073ec709168c21d5071c7faad5ebccf
DTSTAMP:20260420T221323Z
SUMMARY:CHA  Services
DESCRIPTION:Jewish Federation of Greater Naples\nCommunity Calendar\nhttps:
 //jewishnaples.org/calendar/calendar16327\n\nCHA  Services
DTSTART;TZID=America/New_York:20151005T100000
DTEND;TZID=America/New_York:20151005T100000
END:VEVENT
END:VCALENDAR
