BEGIN:VCALENDAR
PRODID:-//eluceo/ical//2.0/EN
VERSION:2.0
CALSCALE:GREGORIAN
BEGIN:VEVENT
UID:577bfad18bc7b6a1ff6f4b1388159d12
DTSTAMP:20260422T121431Z
SUMMARY:BT  Simchat Torah
DESCRIPTION:Jewish Federation of Greater Naples\nCommunity Calendar\nhttps:
 //jewishnaples.org/calendar/calendar16323\n\nBT  Simchat Torah
DTSTART;TZID=America/New_York:20151004T181500
DTEND;TZID=America/New_York:20151004T181500
END:VEVENT
END:VCALENDAR
