BEGIN:VCALENDAR
PRODID:-//eluceo/ical//2.0/EN
VERSION:2.0
CALSCALE:GREGORIAN
BEGIN:VEVENT
UID:9bd7bf7c94b6cd748259f4ae69d1896e
DTSTAMP:20260421T004119Z
SUMMARY:TS Services
DESCRIPTION:Jewish Federation of Greater Naples\nCommunity Calendar\nhttps:
 //jewishnaples.org/calendar/calendar16317\n\nTS Services
DTSTART;TZID=America/New_York:20151003T100000
DTEND;TZID=America/New_York:20151003T100000
END:VEVENT
END:VCALENDAR
