BEGIN:VCALENDAR
PRODID:-//eluceo/ical//2.0/EN
VERSION:2.0
CALSCALE:GREGORIAN
BEGIN:VEVENT
UID:24f203764bd7186202cddeaa63fe5016
DTSTAMP:20260422T085600Z
SUMMARY:NJC Services
DESCRIPTION:Jewish Federation of Greater Naples\nCommunity Calendar\nhttps:
 //jewishnaples.org/calendar/calendar16311\n\nNJC Services
DTSTART;TZID=America/New_York:20151002T193000
DTEND;TZID=America/New_York:20151002T200000
END:VEVENT
END:VCALENDAR
