BEGIN:VCALENDAR
PRODID:-//eluceo/ical//2.0/EN
VERSION:2.0
CALSCALE:GREGORIAN
BEGIN:VEVENT
UID:cccef0ea5c4d4f6e5dbd22256c4f08cc
DTSTAMP:20260422T202752Z
SUMMARY:TS Table Shabbat
DESCRIPTION:Jewish Federation of Greater Naples\nCommunity Calendar\nhttps:
 //jewishnaples.org/calendar/calendar16308\n\nTS Table Shabbat
DTSTART;TZID=America/New_York:20151002T173000
DTEND;TZID=America/New_York:20151002T173000
END:VEVENT
END:VCALENDAR
