BEGIN:VCALENDAR
PRODID:-//eluceo/ical//2.0/EN
VERSION:2.0
CALSCALE:GREGORIAN
BEGIN:VEVENT
UID:368ba9787a8bb5ae5ffc91f91cc535cb
DTSTAMP:20260422T171719Z
SUMMARY:CHA Women's Circle
DESCRIPTION:Jewish Federation of Greater Naples\nCommunity Calendar\nhttps:
 //jewishnaples.org/calendar/calendar163\n\n&nbsp
DTSTART;TZID=America/New_York:20150122T110000
DTEND;TZID=America/New_York:20150122T110000
END:VEVENT
END:VCALENDAR
