BEGIN:VCALENDAR
PRODID:-//eluceo/ical//2.0/EN
VERSION:2.0
CALSCALE:GREGORIAN
BEGIN:VEVENT
UID:bf657c189445364f0d303923df23f1f8
DTSTAMP:20260422T113814Z
SUMMARY:BT  Rabbi's Study Course
DESCRIPTION:Jewish Federation of Greater Naples\nCommunity Calendar\nhttps:
 //jewishnaples.org/calendar/calendar16299\n\nBT  Rabbi's Study Course
DTSTART;TZID=America/New_York:20150929T160000
DTEND;TZID=America/New_York:20150929T160000
END:VEVENT
END:VCALENDAR
