BEGIN:VCALENDAR
PRODID:-//eluceo/ical//2.0/EN
VERSION:2.0
CALSCALE:GREGORIAN
BEGIN:VEVENT
UID:a55e4d75962d6031c928ab56f07c0acd
DTSTAMP:20260423T230400Z
SUMMARY:CHA  Sukkot Service
DESCRIPTION:Jewish Federation of Greater Naples\nCommunity Calendar\nhttps:
 //jewishnaples.org/calendar/calendar16297\n\nCHA  Sukkot Service
DTSTART;TZID=America/New_York:20150929T100000
DTEND;TZID=America/New_York:20150929T100000
END:VEVENT
END:VCALENDAR
