BEGIN:VCALENDAR
PRODID:-//eluceo/ical//2.0/EN
VERSION:2.0
CALSCALE:GREGORIAN
BEGIN:VEVENT
UID:9bb228e5115b9d784eeed9e4e5f1d37b
DTSTAMP:20260422T162722Z
SUMMARY:BBYO Car Wash
DESCRIPTION:Jewish Federation of Greater Naples\nCommunity Calendar\nhttps:
 //jewishnaples.org/calendar/calendar16286\n\nBBYO Car Wash
DTSTART;TZID=America/New_York:20150927T130000
DTEND;TZID=America/New_York:20150927T130000
END:VEVENT
END:VCALENDAR
