BEGIN:VCALENDAR
PRODID:-//eluceo/ical//2.0/EN
VERSION:2.0
CALSCALE:GREGORIAN
BEGIN:VEVENT
UID:405113c0e684cc9f74df4fc050e68ee1
DTSTAMP:20260424T053536Z
SUMMARY:JCMI Board Meeting
DESCRIPTION:Jewish Federation of Greater Naples\nCommunity Calendar\nhttps:
 //jewishnaples.org/calendar/calendar16275\n\nJCMI Board Meeting
DTSTART;TZID=America/New_York:20150924T190000
DTEND;TZID=America/New_York:20150924T190000
END:VEVENT
END:VCALENDAR
